BEGIN:VCALENDAR
VERSION:2.0
PRODID:-//Villa-Flaire - ECPv6.15.20//NONSGML v1.0//EN
CALSCALE:GREGORIAN
METHOD:PUBLISH
X-ORIGINAL-URL:https://villa-flaire.org
X-WR-CALDESC:Veranstaltungen für Villa-Flaire
REFRESH-INTERVAL;VALUE=DURATION:PT1H
X-Robots-Tag:noindex
X-PUBLISHED-TTL:PT1H
BEGIN:VTIMEZONE
TZID:Europe/Berlin
BEGIN:DAYLIGHT
TZOFFSETFROM:+0100
TZOFFSETTO:+0200
TZNAME:CEST
DTSTART:20240331T010000
END:DAYLIGHT
BEGIN:STANDARD
TZOFFSETFROM:+0200
TZOFFSETTO:+0100
TZNAME:CET
DTSTART:20241027T010000
END:STANDARD
BEGIN:DAYLIGHT
TZOFFSETFROM:+0100
TZOFFSETTO:+0200
TZNAME:CEST
DTSTART:20250330T010000
END:DAYLIGHT
BEGIN:STANDARD
TZOFFSETFROM:+0200
TZOFFSETTO:+0100
TZNAME:CET
DTSTART:20251026T010000
END:STANDARD
BEGIN:DAYLIGHT
TZOFFSETFROM:+0100
TZOFFSETTO:+0200
TZNAME:CEST
DTSTART:20260329T010000
END:DAYLIGHT
BEGIN:STANDARD
TZOFFSETFROM:+0200
TZOFFSETTO:+0100
TZNAME:CET
DTSTART:20261025T010000
END:STANDARD
END:VTIMEZONE
BEGIN:VEVENT
DTSTART;TZID=Europe/Berlin:20250201T190000
DTEND;TZID=Europe/Berlin:20250201T220000
DTSTAMP:20260421T104507
CREATED:20241227T234010Z
LAST-MODIFIED:20250123T193544Z
UID:10000204-1738436400-1738447200@villa-flaire.org
SUMMARY:Neon Bites
DESCRIPTION:DAS LEUCHTENDE FESTMAHL\nWir haben etwas Neuartiges für euch gekocht! \nTaucht ein in eine leuchtende Welt aus kulinarischer Kreativität und künstlerischem Zauber. Beim Neon Bites Bankett erwartet Euch ein exklusives 5-Gänge-Gourmetmenü\, dessen Gerichte im Schwarzlicht erstrahlen. Dazu servieren wir stimmungsvolle Livemusik und faszinierenden Lichtinstallationen! \nWas Euch erwartet\n5 Gänge voller Magie\nLasst Euch von fluoreszierenden vegetarischen Gerichten verzaubern\, die nicht nur unter Schwarzlicht in den wildesten Farben erstrahlen\, sondern auch Ihre Geschmacksknospen überraschen werden. \nLivemusik zum Träumen\nFür das perfekte Ambiente sorgt ein exklusives Synthesizer-Live-Konzert. \nKunstvolle Lichtinstallationen\nTauchen Sie ein in eine Welt voller Farben\, Formen und leuchtender Überraschungen! \nPrivate Tische\nOb mit Freunden\, Familie oder Ihrer besseren Hälfte – genießen Sie den Abend ganz entspannt und exklusiv. \nTickets\nGibt es unter: https://tickets.neonbites.de/villa-flaire/ \nDaten\n1. Februar 2025\nEinlass ab 19:00 Uhr\nDinner beginnt um 19:30 Uhr \nLocation\nVilla-Flaire | Kultur- & Begegnungsstätte\, Salachweg 8\, 90592 Schwarzenbruck \nInstagram\nFolgt uns auf Instagram\, wenn Ihr schon einmal einen Vorgeschmack darauf bekommen wollt\, was Euch erwartet: https://www.instagram.com/neon.bites.bankett
URL:https://villa-flaire.org/event/neon-bites/
LOCATION:Villa-Flaire\, Salachweg 8\, Schwarzenbruck\, Bayern\, 90592\, Deutschland
ATTACH;FMTTYPE=image/jpeg:https://villa-flaire.org/wp-content/uploads/2024/12/Neon_Bites_Event_Header.jpg
END:VEVENT
BEGIN:VEVENT
DTSTART;TZID=Europe/Berlin:20250206T173000
DTEND;TZID=Europe/Berlin:20250206T193000
DTSTAMP:20260421T104507
CREATED:20241016T101816Z
LAST-MODIFIED:20260314T162857Z
UID:10000217-1738863000-1738870200@villa-flaire.org
SUMMARY:AtelYeah Zentangle-Methode
DESCRIPTION:Zentangle 2025 \nDie Zentangle-Methode ist eine einfach zu erlernende\, entspannende und unterhaltsame Methode\, um schöne Bilder durch das Zeichnen strukturierter Muster zu erstellen. Ein Strich nach dem anderen. \nEs entstehen Bilder in kleinen Formaten\, meist gefüllt mit mehreren Mustern. Durch die Schritt für Schritt Anleitung durch Irene Badewitz CZT (Certified Zentangle Teacher) ist es jedem möglich ein kleines Kunstwerk zu erschaffen. Jedes Mal entsteht etwas Neues\, Eigenes und es ist immer richtig. \nIrene Badewitz ist seit vielen Jahren kreativ schaffend. Die Zentangle-Methode begleitet sie schon über 10 Jahre. \nDie wenigen Materialien\, die es dazu braucht werden im Kurs bereit gestellt. Die Kursabende sind offen\, nicht aufeinander aufbauend. \nZeit\nDonnerstags\, 17:30 Uhr bis circa 19:30 Uhr \nOrt\nAtelYeah im 1. OG der Villa-Flaire \nSpendenempfehlung\n10-15€ inkl. Material \nAnmeldung\nunter kunst@villa-flaire.org
URL:https://villa-flaire.org/event/atelyeah-zentangle-methode/2025-02-06/
LOCATION:Villa-Flaire\, Salachweg 8\, Schwarzenbruck\, Bayern\, 90592\, Deutschland
ATTACH;FMTTYPE=image/jpeg:https://villa-flaire.org/wp-content/uploads/2024/11/Zentangle-mit-Irene-Badewitz-Newsletter-Header.jpg
ORGANIZER;CN="AtelYeah":MAILTO:kunst@villa-flaire.org
END:VEVENT
BEGIN:VEVENT
DTSTART;TZID=Europe/Berlin:20250207T160000
DTEND;TZID=Europe/Berlin:20250207T170000
DTSTAMP:20260421T104507
CREATED:20241205T143335Z
LAST-MODIFIED:20250312T193735Z
UID:10000228-1738944000-1738947600@villa-flaire.org
SUMMARY:Offenes Treffen für Interessierte
DESCRIPTION:Du willst die Villa besichtigen\, uns kennenlernen oder sogar mit anpacken? \nNa wunderbar\, denn wir brauchen dringend Verstärkung! Egal ob Du schon einmal bei einem unserer Plenas warst\, Dir seit langem vornimmst uns besser kennenzulernen oder uns erst vor kurzem entdeckt hast – nutze die Chance deine Fragen loszuwerden\, in unsere Strukturen zu schnuppern oder einfach nur begleitet das Gelände zu erkunden.  \nTreffpunkt ist immer der Infokasten vorne am Eingang zum Grundstück!\nWir freuen uns auf dich!
URL:https://villa-flaire.org/event/offenes-treffen-fuer-interessierte/2025-02-07/
LOCATION:Villa-Flaire\, Salachweg 8\, Schwarzenbruck\, Bayern\, 90592\, Deutschland
ATTACH;FMTTYPE=image/jpeg:https://villa-flaire.org/wp-content/uploads/2024/12/image0-scaled.jpeg
ORGANIZER;CN="Laissez-Faire e.V.":MAILTO:hallo@laissez-faire.org
END:VEVENT
BEGIN:VEVENT
DTSTART;TZID=Europe/Berlin:20250213T150000
DTEND;TZID=Europe/Berlin:20250213T163000
DTSTAMP:20260421T104507
CREATED:20250117T143232Z
LAST-MODIFIED:20250117T161237Z
UID:10000223-1739458800-1739464200@villa-flaire.org
SUMMARY:AtelYeah Kindernachmittag: Nagel-Herz (mit Anmeldung)
DESCRIPTION:Achtung-es wird laut! Entdeckt eure handwerkliche und kreative Seite!\nGemeinsam gestalten wir einzigartige Kunstwerke mit Holz\, Hammer\, Schleifpapier\, Garn und Nägeln. \n✨✨🖼️\n**Was erwartet euch?**\n– Kreativer Umgang mit Hammer\, Nägeln und Garn\n– Euer ganz persönliches Kunstwerk zum Mitnehmen \n👧👦\n**Teilnahmebedingungen**\n– Altersempfehlung 1. bis 4. Klasse\n– Maximal 8 Teilnehmer*innen\n– Einverständniserklärung einer erziehungsberechtigten Person \n🎒\n**Mitzubringen**\n– Kleidung\, die auch mal ein paar Spuren abbekommen darf\n– Gute Laune und Lust auf kreatives Gestalten \n💰\n**Spendenempfehlung**\n15 Euro (alle Materialien inbegriffen) \n🌷\n**Anmeldung**\nVerbindlich!\nBitte per Mail an kunst@villla-flaire.org\nWir freuen uns auf euch! \nNach erfolgreicher Anmeldung werden wir uns so schnell wie möglich persönlich bei Euch melden\, euch eine Zu- oder Absage und in diesem Zuge auch ggf. unsere Kontodaten mitteilen. Prüft bitte auch gelegentlich euren Spam Ordner! Schaut doch außerdem mal auf unserer Instagram-Seite vorbei: @villa.flaire.atelyeah
URL:https://villa-flaire.org/event/atelyeah-kindernachmittag-nagel-herz/
LOCATION:Villa-Flaire\, Salachweg 8\, Schwarzenbruck\, Bayern\, 90592\, Deutschland
ORGANIZER;CN="AtelYeah":MAILTO:kunst@villa-flaire.org
END:VEVENT
BEGIN:VEVENT
DTSTART;TZID=Europe/Berlin:20250220T173000
DTEND;TZID=Europe/Berlin:20250220T193000
DTSTAMP:20260421T104507
CREATED:20241016T101816Z
LAST-MODIFIED:20260314T162857Z
UID:10000218-1740072600-1740079800@villa-flaire.org
SUMMARY:AtelYeah Zentangle-Methode
DESCRIPTION:Zentangle 2025 \nDie Zentangle-Methode ist eine einfach zu erlernende\, entspannende und unterhaltsame Methode\, um schöne Bilder durch das Zeichnen strukturierter Muster zu erstellen. Ein Strich nach dem anderen. \nEs entstehen Bilder in kleinen Formaten\, meist gefüllt mit mehreren Mustern. Durch die Schritt für Schritt Anleitung durch Irene Badewitz CZT (Certified Zentangle Teacher) ist es jedem möglich ein kleines Kunstwerk zu erschaffen. Jedes Mal entsteht etwas Neues\, Eigenes und es ist immer richtig. \nIrene Badewitz ist seit vielen Jahren kreativ schaffend. Die Zentangle-Methode begleitet sie schon über 10 Jahre. \nDie wenigen Materialien\, die es dazu braucht werden im Kurs bereit gestellt. Die Kursabende sind offen\, nicht aufeinander aufbauend. \nZeit\nDonnerstags\, 17:30 Uhr bis circa 19:30 Uhr \nOrt\nAtelYeah im 1. OG der Villa-Flaire \nSpendenempfehlung\n10-15€ inkl. Material \nAnmeldung\nunter kunst@villa-flaire.org
URL:https://villa-flaire.org/event/atelyeah-zentangle-methode/2025-02-20/
LOCATION:Villa-Flaire\, Salachweg 8\, Schwarzenbruck\, Bayern\, 90592\, Deutschland
ATTACH;FMTTYPE=image/jpeg:https://villa-flaire.org/wp-content/uploads/2024/11/Zentangle-mit-Irene-Badewitz-Newsletter-Header.jpg
ORGANIZER;CN="AtelYeah":MAILTO:kunst@villa-flaire.org
END:VEVENT
BEGIN:VEVENT
DTSTART;TZID=Europe/Berlin:20250227T150000
DTEND;TZID=Europe/Berlin:20250227T163000
DTSTAMP:20260421T104507
CREATED:20250117T143838Z
LAST-MODIFIED:20250117T155951Z
UID:10000224-1740668400-1740673800@villa-flaire.org
SUMMARY:AtelYeah Kindernachmittag: Linolschnitt & -Druck (mit Anmeldung)
DESCRIPTION:Entdeckt die faszinierende Kunst des Linolschnitts und erschafft einzigartige Drucke! Gemeinsam gestalten wir kreative Motive\, die mit Linolwerkzeugen in die Druckplatten geschnitten und anschließend gedruckt werden. Ob kunstvolle Muster oder eigene Designs – eurer Fantasie sind keine Grenzen gesetzt! \n✨✨🖼️\n**Was erwartet euch?**\n– Kreativer Umgang mit diversen Werkzeugen\n– Eure selbstgestalteten Kunstwerke zum Mitnehmen \n👧👦\n**Teilnahmebedingungen**\n– Altersempfehlung 2. bis 4. Klasse\n– Achtung: Scharfe Werkzeuge!\n– Maximal 8 Teilnehmer*innen\n– Einverständniserklärung einer erziehungsberechtigten Person \n🎒\n**Mitzubringen**\n– Kleidung\, die auch mal ein paar Spuren abbekommen darf\n– Gute Laune und Lust auf kreatives Gestalten \n💰\n**Spendenempfehlung**\n15 Euro (alle Materialien inbegriffen) \n🌷\n**Anmeldung**\nVerbindlich!\nBitte per Mail an kunst@villla-flaire.org\nWir freuen uns auf euch! \nNach erfolgreicher Anmeldung werden wir uns so schnell wie möglich persönlich bei Euch melden\, euch eine Zu- oder Absage und in diesem Zuge auch ggf. unsere Kontodaten mitteilen. Prüft bitte auch gelegentlich euren Spam Ordner! Schaut doch außerdem mal auf unserer Instagram-Seite vorbei: @villa.flaire.atelyeah
URL:https://villa-flaire.org/event/atelyeah-kindernachmittag-atelyeah-kindernachmittag-linolschnitt-druck/
LOCATION:Villa-Flaire\, Salachweg 8\, Schwarzenbruck\, Bayern\, 90592\, Deutschland
ORGANIZER;CN="AtelYeah":MAILTO:kunst@villa-flaire.org
END:VEVENT
END:VCALENDAR