BEGIN:VCALENDAR
VERSION:2.0
PRODID:-//Villa-Flaire - ECPv6.15.20//NONSGML v1.0//EN
CALSCALE:GREGORIAN
METHOD:PUBLISH
X-WR-CALNAME:Villa-Flaire
X-ORIGINAL-URL:https://villa-flaire.org
X-WR-CALDESC:Veranstaltungen für Villa-Flaire
REFRESH-INTERVAL;VALUE=DURATION:PT1H
X-Robots-Tag:noindex
X-PUBLISHED-TTL:PT1H
BEGIN:VTIMEZONE
TZID:Europe/Berlin
BEGIN:DAYLIGHT
TZOFFSETFROM:+0100
TZOFFSETTO:+0200
TZNAME:CEST
DTSTART:20230326T010000
END:DAYLIGHT
BEGIN:STANDARD
TZOFFSETFROM:+0200
TZOFFSETTO:+0100
TZNAME:CET
DTSTART:20231029T010000
END:STANDARD
BEGIN:DAYLIGHT
TZOFFSETFROM:+0100
TZOFFSETTO:+0200
TZNAME:CEST
DTSTART:20240331T010000
END:DAYLIGHT
BEGIN:STANDARD
TZOFFSETFROM:+0200
TZOFFSETTO:+0100
TZNAME:CET
DTSTART:20241027T010000
END:STANDARD
BEGIN:DAYLIGHT
TZOFFSETFROM:+0100
TZOFFSETTO:+0200
TZNAME:CEST
DTSTART:20250330T010000
END:DAYLIGHT
BEGIN:STANDARD
TZOFFSETFROM:+0200
TZOFFSETTO:+0100
TZNAME:CET
DTSTART:20251026T010000
END:STANDARD
END:VTIMEZONE
BEGIN:VEVENT
DTSTART;TZID=Europe/Berlin:20240829T150000
DTEND;TZID=Europe/Berlin:20240829T210000
DTSTAMP:20260423T070046
CREATED:20240624T122749Z
LAST-MODIFIED:20240830T142430Z
UID:10000092-1724943600-1724965200@villa-flaire.org
SUMMARY:Kiosk
DESCRIPTION:Herzlich willkommen am Villa-Flaire Kiosk!\nGenießt ab sofort Donnerstags bis Sonntags an warmen Tagen eine erfrischende Auswahl an leckerem Eis von Eis im Glück\, frechen Snacks\, kühlen Getränken und anderen tollen Dingen. Bei schlechtem Wetter bleibt der Kiosk geschlossen. Wir freuen uns auf euch!
URL:https://villa-flaire.org/event/kiosk/2024-08-29/
LOCATION:Villa-Flaire\, Salachweg 8\, Schwarzenbruck\, Bayern\, 90592\, Deutschland
END:VEVENT
BEGIN:VEVENT
DTSTART;TZID=Europe/Berlin:20240828T180000
DTEND;TZID=Europe/Berlin:20240828T220000
DTSTAMP:20260423T070046
CREATED:20240823T104611Z
LAST-MODIFIED:20240826T202748Z
UID:10000087-1724868000-1724882400@villa-flaire.org
SUMMARY:Laissez-Wednesday "Lila Laster Ladies"-Version
DESCRIPTION:Fünf Frauen\, ein lila LKW und eine ausklappbare Bühne. Die Reise beginnt. Begleitet die Lila Laster Ladies auf der Suche nach der richtigen Gangschaltung für das Abenteuer des Lebens. \nIm Zusammenspiel fünf grundverschiedener Frauen erleben wir Abenteuer und Absurdität\, Komik und Konflikte. Artistik\, Tanz und Physical Comedy tragen eine Erzählung über Stärken und Schwächen\, Herkunft und zuhause. Vor allem aber geht es in dieser einstündigen\, mitreißenden Inszenierung um das Zusammenspiel von fünf Frauen\, mit all ihren Ecken\, Kanten und Marotten. Eine Fusion aus Straßentheater und neuem Zirkus\, mit Humor\, in lila und mit 140 PS. \n„Lila Laster Ladies“ ist ein tourendes Zirkustheater Projekt für den öffentlichen Raum. Die Produktion wurde im Frühjahr 2024 im Ruhrgebiet entwickelt und uraufgeführt. Gefördert durch das Programm „Neue Künste Ruhr“ des Ministeriums für Kultur und Wissenschaft NRW. Das Projekt wurde von Carmen La Tanik und Deana Ehrich initiiert\, das Ensemble hat sich eigens dafür zusammengefunden. Neben Engagements auf großen Festivals\, zielt das Ensemble bewusst auch auf Spielorte abseits des üblichen Kulturbetriebs\, die es für den Neuen Zirkus zu erobern gilt. Die Vorstellung ist für Kinder und Erwachsene gleichermaßen geeignet. \nNamensgeber des Projekts ist Carmen La Taniks lila LKW mit fest installierter ausklappbarer Bühne und autarker Solarstromversorgung. Die Laster Ladies kapern das männlich besetzte Bild von großen Autos mit starken Motoren und nutzen es für eine zirzensische Demonstration des female empowerment. Die Akteurinnen stammen aus verschiedenen performativen Disziplinen: Luftartistik\, Handstand Equilibristik\, Mime und Physical Comedy und HulaHoop Artistik. Mit der Regisseurin Sabine Rieck konnte das Ensemble eine der renommiertesten Vertreterinnen des zeitgenössischen Zirkustheaters gewinnen\, die europaweit an herausragenden Produktionen beteiligt war. \nGemeinsam mit euch freuen wir uns auf die Lila Laster Ladies bei uns auf dem Gelände der Kultur- & Begegnungsstätte Villa-Flaire. Wie üblich bei unserem Laissez-Sunday Format wird es ein durchmischtes Angebot geben und… unser Kiosk geöffnet haben! Wie immer handelt es sich dabei um eine private Vereinsveranstaltung auf die wir nur Mitglieder eintreten lassen können. Falls noch nicht geschehen geht das ganz einfach unter folgendem Link: laissez-faire.org/beitreten \nStartschuss für den Einlass ist diesmal um 18 Uhr! Die Show beginnt um 19:30 Uhr.
URL:https://villa-flaire.org/event/laissez-wednesday-lila-laster-ladies-version/
LOCATION:Villa-Flaire\, Salachweg 8\, Schwarzenbruck\, Bayern\, 90592\, Deutschland
ORGANIZER;CN="Laissez-Faire e.V.":MAILTO:hallo@laissez-faire.org
END:VEVENT
BEGIN:VEVENT
DTSTART;TZID=Europe/Berlin:20240728T120000
DTEND;TZID=Europe/Berlin:20240728T210000
DTSTAMP:20260423T070046
CREATED:20240624T122749Z
LAST-MODIFIED:20240830T142430Z
UID:10000086-1722168000-1722200400@villa-flaire.org
SUMMARY:Kiosk
DESCRIPTION:Herzlich willkommen am Villa-Flaire Kiosk!\nGenießt ab sofort Donnerstags bis Sonntags an warmen Tagen eine erfrischende Auswahl an leckerem Eis von Eis im Glück\, frechen Snacks\, kühlen Getränken und anderen tollen Dingen. Bei schlechtem Wetter bleibt der Kiosk geschlossen. Wir freuen uns auf euch!
URL:https://villa-flaire.org/event/kiosk/2024-07-28/
LOCATION:Villa-Flaire\, Salachweg 8\, Schwarzenbruck\, Bayern\, 90592\, Deutschland
END:VEVENT
BEGIN:VEVENT
DTSTART;TZID=Europe/Berlin:20240727T120000
DTEND;TZID=Europe/Berlin:20240727T210000
DTSTAMP:20260423T070046
CREATED:20240624T122749Z
LAST-MODIFIED:20240830T142430Z
UID:10000085-1722081600-1722114000@villa-flaire.org
SUMMARY:Kiosk
DESCRIPTION:Herzlich willkommen am Villa-Flaire Kiosk!\nGenießt ab sofort Donnerstags bis Sonntags an warmen Tagen eine erfrischende Auswahl an leckerem Eis von Eis im Glück\, frechen Snacks\, kühlen Getränken und anderen tollen Dingen. Bei schlechtem Wetter bleibt der Kiosk geschlossen. Wir freuen uns auf euch!
URL:https://villa-flaire.org/event/kiosk/2024-07-27/
LOCATION:Villa-Flaire\, Salachweg 8\, Schwarzenbruck\, Bayern\, 90592\, Deutschland
END:VEVENT
BEGIN:VEVENT
DTSTART;TZID=Europe/Berlin:20240726T150000
DTEND;TZID=Europe/Berlin:20240726T210000
DTSTAMP:20260423T070046
CREATED:20240624T122749Z
LAST-MODIFIED:20240830T142430Z
UID:10000084-1722006000-1722027600@villa-flaire.org
SUMMARY:Kiosk
DESCRIPTION:Herzlich willkommen am Villa-Flaire Kiosk!\nGenießt ab sofort Donnerstags bis Sonntags an warmen Tagen eine erfrischende Auswahl an leckerem Eis von Eis im Glück\, frechen Snacks\, kühlen Getränken und anderen tollen Dingen. Bei schlechtem Wetter bleibt der Kiosk geschlossen. Wir freuen uns auf euch!
URL:https://villa-flaire.org/event/kiosk/2024-07-26/
LOCATION:Villa-Flaire\, Salachweg 8\, Schwarzenbruck\, Bayern\, 90592\, Deutschland
END:VEVENT
BEGIN:VEVENT
DTSTART;TZID=Europe/Berlin:20240725T150000
DTEND;TZID=Europe/Berlin:20240725T210000
DTSTAMP:20260423T070046
CREATED:20240624T122749Z
LAST-MODIFIED:20240830T142430Z
UID:10000083-1721919600-1721941200@villa-flaire.org
SUMMARY:Kiosk
DESCRIPTION:Herzlich willkommen am Villa-Flaire Kiosk!\nGenießt ab sofort Donnerstags bis Sonntags an warmen Tagen eine erfrischende Auswahl an leckerem Eis von Eis im Glück\, frechen Snacks\, kühlen Getränken und anderen tollen Dingen. Bei schlechtem Wetter bleibt der Kiosk geschlossen. Wir freuen uns auf euch!
URL:https://villa-flaire.org/event/kiosk/2024-07-25/
LOCATION:Villa-Flaire\, Salachweg 8\, Schwarzenbruck\, Bayern\, 90592\, Deutschland
END:VEVENT
BEGIN:VEVENT
DTSTART;TZID=Europe/Berlin:20240721T140000
DTEND;TZID=Europe/Berlin:20240721T180000
DTSTAMP:20260423T070046
CREATED:20240531T150854Z
LAST-MODIFIED:20240531T151005Z
UID:10000062-1721570400-1721584800@villa-flaire.org
SUMMARY:AtelYeah Drahtschmuck-Workshop #1
DESCRIPTION:
URL:https://villa-flaire.org/event/drahtschmuck-workshop-1/2024-07-21/
LOCATION:Villa-Flaire\, Salachweg 8\, Schwarzenbruck\, Bayern\, 90592\, Deutschland
ORGANIZER;CN="AtelYeah":MAILTO:kunst@villa-flaire.org
END:VEVENT
BEGIN:VEVENT
DTSTART;TZID=Europe/Berlin:20240721T120000
DTEND;TZID=Europe/Berlin:20240721T210000
DTSTAMP:20260423T070046
CREATED:20240624T122749Z
LAST-MODIFIED:20240830T142430Z
UID:10000082-1721563200-1721595600@villa-flaire.org
SUMMARY:Kiosk
DESCRIPTION:Herzlich willkommen am Villa-Flaire Kiosk!\nGenießt ab sofort Donnerstags bis Sonntags an warmen Tagen eine erfrischende Auswahl an leckerem Eis von Eis im Glück\, frechen Snacks\, kühlen Getränken und anderen tollen Dingen. Bei schlechtem Wetter bleibt der Kiosk geschlossen. Wir freuen uns auf euch!
URL:https://villa-flaire.org/event/kiosk/2024-07-21/
LOCATION:Villa-Flaire\, Salachweg 8\, Schwarzenbruck\, Bayern\, 90592\, Deutschland
END:VEVENT
BEGIN:VEVENT
DTSTART;TZID=Europe/Berlin:20240720T120000
DTEND;TZID=Europe/Berlin:20240720T210000
DTSTAMP:20260423T070046
CREATED:20240624T122749Z
LAST-MODIFIED:20240830T142430Z
UID:10000081-1721476800-1721509200@villa-flaire.org
SUMMARY:Kiosk
DESCRIPTION:Herzlich willkommen am Villa-Flaire Kiosk!\nGenießt ab sofort Donnerstags bis Sonntags an warmen Tagen eine erfrischende Auswahl an leckerem Eis von Eis im Glück\, frechen Snacks\, kühlen Getränken und anderen tollen Dingen. Bei schlechtem Wetter bleibt der Kiosk geschlossen. Wir freuen uns auf euch!
URL:https://villa-flaire.org/event/kiosk/2024-07-20/
LOCATION:Villa-Flaire\, Salachweg 8\, Schwarzenbruck\, Bayern\, 90592\, Deutschland
END:VEVENT
BEGIN:VEVENT
DTSTART;TZID=Europe/Berlin:20240719T150000
DTEND;TZID=Europe/Berlin:20240719T210000
DTSTAMP:20260423T070047
CREATED:20240624T122749Z
LAST-MODIFIED:20240830T142430Z
UID:10000080-1721401200-1721422800@villa-flaire.org
SUMMARY:Kiosk
DESCRIPTION:Herzlich willkommen am Villa-Flaire Kiosk!\nGenießt ab sofort Donnerstags bis Sonntags an warmen Tagen eine erfrischende Auswahl an leckerem Eis von Eis im Glück\, frechen Snacks\, kühlen Getränken und anderen tollen Dingen. Bei schlechtem Wetter bleibt der Kiosk geschlossen. Wir freuen uns auf euch!
URL:https://villa-flaire.org/event/kiosk/2024-07-19/
LOCATION:Villa-Flaire\, Salachweg 8\, Schwarzenbruck\, Bayern\, 90592\, Deutschland
END:VEVENT
BEGIN:VEVENT
DTSTART;TZID=Europe/Berlin:20240718T150000
DTEND;TZID=Europe/Berlin:20240718T210000
DTSTAMP:20260423T070047
CREATED:20240624T122749Z
LAST-MODIFIED:20240830T142430Z
UID:10000079-1721314800-1721336400@villa-flaire.org
SUMMARY:Kiosk
DESCRIPTION:Herzlich willkommen am Villa-Flaire Kiosk!\nGenießt ab sofort Donnerstags bis Sonntags an warmen Tagen eine erfrischende Auswahl an leckerem Eis von Eis im Glück\, frechen Snacks\, kühlen Getränken und anderen tollen Dingen. Bei schlechtem Wetter bleibt der Kiosk geschlossen. Wir freuen uns auf euch!
URL:https://villa-flaire.org/event/kiosk/2024-07-18/
LOCATION:Villa-Flaire\, Salachweg 8\, Schwarzenbruck\, Bayern\, 90592\, Deutschland
END:VEVENT
BEGIN:VEVENT
DTSTART;TZID=Europe/Berlin:20240714T120000
DTEND;TZID=Europe/Berlin:20240714T210000
DTSTAMP:20260423T070047
CREATED:20240624T122749Z
LAST-MODIFIED:20240830T142430Z
UID:10000078-1720958400-1720990800@villa-flaire.org
SUMMARY:Kiosk
DESCRIPTION:Herzlich willkommen am Villa-Flaire Kiosk!\nGenießt ab sofort Donnerstags bis Sonntags an warmen Tagen eine erfrischende Auswahl an leckerem Eis von Eis im Glück\, frechen Snacks\, kühlen Getränken und anderen tollen Dingen. Bei schlechtem Wetter bleibt der Kiosk geschlossen. Wir freuen uns auf euch!
URL:https://villa-flaire.org/event/kiosk/2024-07-14/
LOCATION:Villa-Flaire\, Salachweg 8\, Schwarzenbruck\, Bayern\, 90592\, Deutschland
END:VEVENT
BEGIN:VEVENT
DTSTART;TZID=Europe/Berlin:20240713T120000
DTEND;TZID=Europe/Berlin:20240713T210000
DTSTAMP:20260423T070047
CREATED:20240624T122749Z
LAST-MODIFIED:20240830T142430Z
UID:10000077-1720872000-1720904400@villa-flaire.org
SUMMARY:Kiosk
DESCRIPTION:Herzlich willkommen am Villa-Flaire Kiosk!\nGenießt ab sofort Donnerstags bis Sonntags an warmen Tagen eine erfrischende Auswahl an leckerem Eis von Eis im Glück\, frechen Snacks\, kühlen Getränken und anderen tollen Dingen. Bei schlechtem Wetter bleibt der Kiosk geschlossen. Wir freuen uns auf euch!
URL:https://villa-flaire.org/event/kiosk/2024-07-13/
LOCATION:Villa-Flaire\, Salachweg 8\, Schwarzenbruck\, Bayern\, 90592\, Deutschland
END:VEVENT
BEGIN:VEVENT
DTSTART;TZID=Europe/Berlin:20240713T120000
DTEND;TZID=Europe/Berlin:20240713T150000
DTSTAMP:20260423T070047
CREATED:20240530T222621Z
LAST-MODIFIED:20251113T220315Z
UID:10000060-1720872000-1720882800@villa-flaire.org
SUMMARY:AtelYeah Töpferkurs #4
DESCRIPTION:
URL:https://villa-flaire.org/event/atelyeah-toepferkurs-4/2024-07-13/
LOCATION:Villa-Flaire\, Salachweg 8\, Schwarzenbruck\, Bayern\, 90592\, Deutschland
ORGANIZER;CN="AtelYeah":MAILTO:kunst@villa-flaire.org
END:VEVENT
BEGIN:VEVENT
DTSTART;TZID=Europe/Berlin:20240712T150000
DTEND;TZID=Europe/Berlin:20240712T210000
DTSTAMP:20260423T070047
CREATED:20240624T122749Z
LAST-MODIFIED:20240830T142430Z
UID:10000076-1720796400-1720818000@villa-flaire.org
SUMMARY:Kiosk
DESCRIPTION:Herzlich willkommen am Villa-Flaire Kiosk!\nGenießt ab sofort Donnerstags bis Sonntags an warmen Tagen eine erfrischende Auswahl an leckerem Eis von Eis im Glück\, frechen Snacks\, kühlen Getränken und anderen tollen Dingen. Bei schlechtem Wetter bleibt der Kiosk geschlossen. Wir freuen uns auf euch!
URL:https://villa-flaire.org/event/kiosk/2024-07-12/
LOCATION:Villa-Flaire\, Salachweg 8\, Schwarzenbruck\, Bayern\, 90592\, Deutschland
END:VEVENT
BEGIN:VEVENT
DTSTART;TZID=Europe/Berlin:20240711T150000
DTEND;TZID=Europe/Berlin:20240711T210000
DTSTAMP:20260423T070047
CREATED:20240624T122749Z
LAST-MODIFIED:20240830T142430Z
UID:10000075-1720710000-1720731600@villa-flaire.org
SUMMARY:Kiosk
DESCRIPTION:Herzlich willkommen am Villa-Flaire Kiosk!\nGenießt ab sofort Donnerstags bis Sonntags an warmen Tagen eine erfrischende Auswahl an leckerem Eis von Eis im Glück\, frechen Snacks\, kühlen Getränken und anderen tollen Dingen. Bei schlechtem Wetter bleibt der Kiosk geschlossen. Wir freuen uns auf euch!
URL:https://villa-flaire.org/event/kiosk/2024-07-11/
LOCATION:Villa-Flaire\, Salachweg 8\, Schwarzenbruck\, Bayern\, 90592\, Deutschland
END:VEVENT
BEGIN:VEVENT
DTSTART;TZID=Europe/Berlin:20240707T120000
DTEND;TZID=Europe/Berlin:20240707T210000
DTSTAMP:20260423T070047
CREATED:20240624T122749Z
LAST-MODIFIED:20240830T142430Z
UID:10000074-1720353600-1720386000@villa-flaire.org
SUMMARY:Kiosk
DESCRIPTION:Herzlich willkommen am Villa-Flaire Kiosk!\nGenießt ab sofort Donnerstags bis Sonntags an warmen Tagen eine erfrischende Auswahl an leckerem Eis von Eis im Glück\, frechen Snacks\, kühlen Getränken und anderen tollen Dingen. Bei schlechtem Wetter bleibt der Kiosk geschlossen. Wir freuen uns auf euch!
URL:https://villa-flaire.org/event/kiosk/2024-07-07/
LOCATION:Villa-Flaire\, Salachweg 8\, Schwarzenbruck\, Bayern\, 90592\, Deutschland
END:VEVENT
BEGIN:VEVENT
DTSTART;TZID=Europe/Berlin:20240705T150000
DTEND;TZID=Europe/Berlin:20240705T210000
DTSTAMP:20260423T070047
CREATED:20240624T122749Z
LAST-MODIFIED:20240830T142430Z
UID:10000073-1720191600-1720213200@villa-flaire.org
SUMMARY:Kiosk
DESCRIPTION:Herzlich willkommen am Villa-Flaire Kiosk!\nGenießt ab sofort Donnerstags bis Sonntags an warmen Tagen eine erfrischende Auswahl an leckerem Eis von Eis im Glück\, frechen Snacks\, kühlen Getränken und anderen tollen Dingen. Bei schlechtem Wetter bleibt der Kiosk geschlossen. Wir freuen uns auf euch!
URL:https://villa-flaire.org/event/kiosk/2024-07-05/
LOCATION:Villa-Flaire\, Salachweg 8\, Schwarzenbruck\, Bayern\, 90592\, Deutschland
END:VEVENT
BEGIN:VEVENT
DTSTART;TZID=Europe/Berlin:20240704T150000
DTEND;TZID=Europe/Berlin:20240704T210000
DTSTAMP:20260423T070047
CREATED:20240624T122749Z
LAST-MODIFIED:20240830T142430Z
UID:10000072-1720105200-1720126800@villa-flaire.org
SUMMARY:Kiosk
DESCRIPTION:Herzlich willkommen am Villa-Flaire Kiosk!\nGenießt ab sofort Donnerstags bis Sonntags an warmen Tagen eine erfrischende Auswahl an leckerem Eis von Eis im Glück\, frechen Snacks\, kühlen Getränken und anderen tollen Dingen. Bei schlechtem Wetter bleibt der Kiosk geschlossen. Wir freuen uns auf euch!
URL:https://villa-flaire.org/event/kiosk/2024-07-04/
LOCATION:Villa-Flaire\, Salachweg 8\, Schwarzenbruck\, Bayern\, 90592\, Deutschland
END:VEVENT
BEGIN:VEVENT
DTSTART;TZID=Europe/Berlin:20240630T120000
DTEND;TZID=Europe/Berlin:20240630T210000
DTSTAMP:20260423T070047
CREATED:20240624T122749Z
LAST-MODIFIED:20240830T142430Z
UID:10000071-1719748800-1719781200@villa-flaire.org
SUMMARY:Kiosk
DESCRIPTION:Herzlich willkommen am Villa-Flaire Kiosk!\nGenießt ab sofort Donnerstags bis Sonntags an warmen Tagen eine erfrischende Auswahl an leckerem Eis von Eis im Glück\, frechen Snacks\, kühlen Getränken und anderen tollen Dingen. Bei schlechtem Wetter bleibt der Kiosk geschlossen. Wir freuen uns auf euch!
URL:https://villa-flaire.org/event/kiosk/2024-06-30/
LOCATION:Villa-Flaire\, Salachweg 8\, Schwarzenbruck\, Bayern\, 90592\, Deutschland
END:VEVENT
BEGIN:VEVENT
DTSTART;TZID=Europe/Berlin:20240628T150000
DTEND;TZID=Europe/Berlin:20240628T210000
DTSTAMP:20260423T070047
CREATED:20240624T122749Z
LAST-MODIFIED:20240830T142430Z
UID:10000070-1719586800-1719608400@villa-flaire.org
SUMMARY:Kiosk
DESCRIPTION:Herzlich willkommen am Villa-Flaire Kiosk!\nGenießt ab sofort Donnerstags bis Sonntags an warmen Tagen eine erfrischende Auswahl an leckerem Eis von Eis im Glück\, frechen Snacks\, kühlen Getränken und anderen tollen Dingen. Bei schlechtem Wetter bleibt der Kiosk geschlossen. Wir freuen uns auf euch!
URL:https://villa-flaire.org/event/kiosk/2024-06-28/
LOCATION:Villa-Flaire\, Salachweg 8\, Schwarzenbruck\, Bayern\, 90592\, Deutschland
END:VEVENT
BEGIN:VEVENT
DTSTART;TZID=Europe/Berlin:20240627T150000
DTEND;TZID=Europe/Berlin:20240627T210000
DTSTAMP:20260423T070047
CREATED:20240624T122749Z
LAST-MODIFIED:20240830T142430Z
UID:10000069-1719500400-1719522000@villa-flaire.org
SUMMARY:Kiosk
DESCRIPTION:Herzlich willkommen am Villa-Flaire Kiosk!\nGenießt ab sofort Donnerstags bis Sonntags an warmen Tagen eine erfrischende Auswahl an leckerem Eis von Eis im Glück\, frechen Snacks\, kühlen Getränken und anderen tollen Dingen. Bei schlechtem Wetter bleibt der Kiosk geschlossen. Wir freuen uns auf euch!
URL:https://villa-flaire.org/event/kiosk/2024-06-27/
LOCATION:Villa-Flaire\, Salachweg 8\, Schwarzenbruck\, Bayern\, 90592\, Deutschland
END:VEVENT
BEGIN:VEVENT
DTSTART;TZID=Europe/Berlin:20240623T120000
DTEND;TZID=Europe/Berlin:20240623T210000
DTSTAMP:20260423T070047
CREATED:20240624T122749Z
LAST-MODIFIED:20240830T142430Z
UID:10000068-1719144000-1719176400@villa-flaire.org
SUMMARY:Kiosk
DESCRIPTION:Herzlich willkommen am Villa-Flaire Kiosk!\nGenießt ab sofort Donnerstags bis Sonntags an warmen Tagen eine erfrischende Auswahl an leckerem Eis von Eis im Glück\, frechen Snacks\, kühlen Getränken und anderen tollen Dingen. Bei schlechtem Wetter bleibt der Kiosk geschlossen. Wir freuen uns auf euch!
URL:https://villa-flaire.org/event/kiosk/2024-06-23/
LOCATION:Villa-Flaire\, Salachweg 8\, Schwarzenbruck\, Bayern\, 90592\, Deutschland
END:VEVENT
BEGIN:VEVENT
DTSTART;TZID=Europe/Berlin:20240623T110000
DTEND;TZID=Europe/Berlin:20240623T160000
DTSTAMP:20260423T070047
CREATED:20240530T222621Z
LAST-MODIFIED:20251113T220315Z
UID:10000059-1719140400-1719158400@villa-flaire.org
SUMMARY:AtelYeah Töpferkurs #4
DESCRIPTION:
URL:https://villa-flaire.org/event/atelyeah-toepferkurs-4/2024-06-23/
LOCATION:Villa-Flaire\, Salachweg 8\, Schwarzenbruck\, Bayern\, 90592\, Deutschland
ORGANIZER;CN="AtelYeah":MAILTO:kunst@villa-flaire.org
END:VEVENT
BEGIN:VEVENT
DTSTART;TZID=Europe/Berlin:20240622T110000
DTEND;TZID=Europe/Berlin:20240622T160000
DTSTAMP:20260423T070047
CREATED:20240530T222621Z
LAST-MODIFIED:20251113T220315Z
UID:10000058-1719054000-1719072000@villa-flaire.org
SUMMARY:AtelYeah Töpferkurs #4
DESCRIPTION:
URL:https://villa-flaire.org/event/atelyeah-toepferkurs-4/2024-06-22/
LOCATION:Villa-Flaire\, Salachweg 8\, Schwarzenbruck\, Bayern\, 90592\, Deutschland
ORGANIZER;CN="AtelYeah":MAILTO:kunst@villa-flaire.org
END:VEVENT
BEGIN:VEVENT
DTSTART;TZID=Europe/Berlin:20240621T150000
DTEND;TZID=Europe/Berlin:20240621T210000
DTSTAMP:20260423T070047
CREATED:20240624T122749Z
LAST-MODIFIED:20240830T142430Z
UID:10000067-1718982000-1719003600@villa-flaire.org
SUMMARY:Kiosk
DESCRIPTION:Herzlich willkommen am Villa-Flaire Kiosk!\nGenießt ab sofort Donnerstags bis Sonntags an warmen Tagen eine erfrischende Auswahl an leckerem Eis von Eis im Glück\, frechen Snacks\, kühlen Getränken und anderen tollen Dingen. Bei schlechtem Wetter bleibt der Kiosk geschlossen. Wir freuen uns auf euch!
URL:https://villa-flaire.org/event/kiosk/2024-06-21/
LOCATION:Villa-Flaire\, Salachweg 8\, Schwarzenbruck\, Bayern\, 90592\, Deutschland
END:VEVENT
BEGIN:VEVENT
DTSTART;TZID=Europe/Berlin:20240620T150000
DTEND;TZID=Europe/Berlin:20240620T210000
DTSTAMP:20260423T070047
CREATED:20240624T122749Z
LAST-MODIFIED:20240830T142430Z
UID:10000066-1718895600-1718917200@villa-flaire.org
SUMMARY:Kiosk
DESCRIPTION:Herzlich willkommen am Villa-Flaire Kiosk!\nGenießt ab sofort Donnerstags bis Sonntags an warmen Tagen eine erfrischende Auswahl an leckerem Eis von Eis im Glück\, frechen Snacks\, kühlen Getränken und anderen tollen Dingen. Bei schlechtem Wetter bleibt der Kiosk geschlossen. Wir freuen uns auf euch!
URL:https://villa-flaire.org/event/kiosk/2024-06-20/
LOCATION:Villa-Flaire\, Salachweg 8\, Schwarzenbruck\, Bayern\, 90592\, Deutschland
END:VEVENT
BEGIN:VEVENT
DTSTART;TZID=Europe/Berlin:20240616T140000
DTEND;TZID=Europe/Berlin:20240616T180000
DTSTAMP:20260423T070047
CREATED:20240531T150854Z
LAST-MODIFIED:20240531T151005Z
UID:10000061-1718546400-1718560800@villa-flaire.org
SUMMARY:AtelYeah Drahtschmuck-Workshop #1
DESCRIPTION:
URL:https://villa-flaire.org/event/drahtschmuck-workshop-1/2024-06-16/
LOCATION:Villa-Flaire\, Salachweg 8\, Schwarzenbruck\, Bayern\, 90592\, Deutschland
ORGANIZER;CN="AtelYeah":MAILTO:kunst@villa-flaire.org
END:VEVENT
BEGIN:VEVENT
DTSTART;TZID=Europe/Berlin:20240613T150000
DTEND;TZID=Europe/Berlin:20240613T210000
DTSTAMP:20260423T070047
CREATED:20240624T122749Z
LAST-MODIFIED:20240830T142430Z
UID:10000065-1718290800-1718312400@villa-flaire.org
SUMMARY:Kiosk
DESCRIPTION:Herzlich willkommen am Villa-Flaire Kiosk!\nGenießt ab sofort Donnerstags bis Sonntags an warmen Tagen eine erfrischende Auswahl an leckerem Eis von Eis im Glück\, frechen Snacks\, kühlen Getränken und anderen tollen Dingen. Bei schlechtem Wetter bleibt der Kiosk geschlossen. Wir freuen uns auf euch!
URL:https://villa-flaire.org/event/kiosk/2024-06-13/
LOCATION:Villa-Flaire\, Salachweg 8\, Schwarzenbruck\, Bayern\, 90592\, Deutschland
END:VEVENT
BEGIN:VEVENT
DTSTART;TZID=Europe/Berlin:20240609T120000
DTEND;TZID=Europe/Berlin:20240609T210000
DTSTAMP:20260423T070047
CREATED:20240624T122749Z
LAST-MODIFIED:20240830T142430Z
UID:10000064-1717934400-1717966800@villa-flaire.org
SUMMARY:Kiosk
DESCRIPTION:Herzlich willkommen am Villa-Flaire Kiosk!\nGenießt ab sofort Donnerstags bis Sonntags an warmen Tagen eine erfrischende Auswahl an leckerem Eis von Eis im Glück\, frechen Snacks\, kühlen Getränken und anderen tollen Dingen. Bei schlechtem Wetter bleibt der Kiosk geschlossen. Wir freuen uns auf euch!
URL:https://villa-flaire.org/event/kiosk/2024-06-09/
LOCATION:Villa-Flaire\, Salachweg 8\, Schwarzenbruck\, Bayern\, 90592\, Deutschland
END:VEVENT
END:VCALENDAR