BEGIN:VCALENDAR
VERSION:2.0
PRODID:-//Villa-Flaire - ECPv6.15.20//NONSGML v1.0//EN
CALSCALE:GREGORIAN
METHOD:PUBLISH
X-ORIGINAL-URL:https://villa-flaire.org
X-WR-CALDESC:Veranstaltungen für Villa-Flaire
REFRESH-INTERVAL;VALUE=DURATION:PT1H
X-Robots-Tag:noindex
X-PUBLISHED-TTL:PT1H
BEGIN:VTIMEZONE
TZID:Europe/Berlin
BEGIN:DAYLIGHT
TZOFFSETFROM:+0100
TZOFFSETTO:+0200
TZNAME:CEST
DTSTART:20210328T010000
END:DAYLIGHT
BEGIN:STANDARD
TZOFFSETFROM:+0200
TZOFFSETTO:+0100
TZNAME:CET
DTSTART:20211031T010000
END:STANDARD
BEGIN:DAYLIGHT
TZOFFSETFROM:+0100
TZOFFSETTO:+0200
TZNAME:CEST
DTSTART:20220327T010000
END:DAYLIGHT
BEGIN:STANDARD
TZOFFSETFROM:+0200
TZOFFSETTO:+0100
TZNAME:CET
DTSTART:20221030T010000
END:STANDARD
BEGIN:DAYLIGHT
TZOFFSETFROM:+0100
TZOFFSETTO:+0200
TZNAME:CEST
DTSTART:20230326T010000
END:DAYLIGHT
BEGIN:STANDARD
TZOFFSETFROM:+0200
TZOFFSETTO:+0100
TZNAME:CET
DTSTART:20231029T010000
END:STANDARD
BEGIN:DAYLIGHT
TZOFFSETFROM:+0100
TZOFFSETTO:+0200
TZNAME:CEST
DTSTART:20240331T010000
END:DAYLIGHT
BEGIN:STANDARD
TZOFFSETFROM:+0200
TZOFFSETTO:+0100
TZNAME:CET
DTSTART:20241027T010000
END:STANDARD
BEGIN:DAYLIGHT
TZOFFSETFROM:+0100
TZOFFSETTO:+0200
TZNAME:CEST
DTSTART:20250330T010000
END:DAYLIGHT
BEGIN:STANDARD
TZOFFSETFROM:+0200
TZOFFSETTO:+0100
TZNAME:CET
DTSTART:20251026T010000
END:STANDARD
END:VTIMEZONE
BEGIN:VEVENT
DTSTART;TZID=Europe/Berlin:20240622T110000
DTEND;TZID=Europe/Berlin:20240622T160000
DTSTAMP:20260423T104108
CREATED:20240530T222621Z
LAST-MODIFIED:20251113T220315Z
UID:10000058-1719054000-1719072000@villa-flaire.org
SUMMARY:AtelYeah Töpferkurs #4
DESCRIPTION:
URL:https://villa-flaire.org/event/atelyeah-toepferkurs-4/2024-06-22/
LOCATION:Villa-Flaire\, Salachweg 8\, Schwarzenbruck\, Bayern\, 90592\, Deutschland
ORGANIZER;CN="AtelYeah":MAILTO:kunst@villa-flaire.org
END:VEVENT
BEGIN:VEVENT
DTSTART;TZID=Europe/Berlin:20240621T150000
DTEND;TZID=Europe/Berlin:20240621T210000
DTSTAMP:20260423T104108
CREATED:20240624T122749Z
LAST-MODIFIED:20240830T142430Z
UID:10000067-1718982000-1719003600@villa-flaire.org
SUMMARY:Kiosk
DESCRIPTION:Herzlich willkommen am Villa-Flaire Kiosk!\nGenießt ab sofort Donnerstags bis Sonntags an warmen Tagen eine erfrischende Auswahl an leckerem Eis von Eis im Glück\, frechen Snacks\, kühlen Getränken und anderen tollen Dingen. Bei schlechtem Wetter bleibt der Kiosk geschlossen. Wir freuen uns auf euch!
URL:https://villa-flaire.org/event/kiosk/2024-06-21/
LOCATION:Villa-Flaire\, Salachweg 8\, Schwarzenbruck\, Bayern\, 90592\, Deutschland
END:VEVENT
BEGIN:VEVENT
DTSTART;TZID=Europe/Berlin:20240620T150000
DTEND;TZID=Europe/Berlin:20240620T210000
DTSTAMP:20260423T104108
CREATED:20240624T122749Z
LAST-MODIFIED:20240830T142430Z
UID:10000066-1718895600-1718917200@villa-flaire.org
SUMMARY:Kiosk
DESCRIPTION:Herzlich willkommen am Villa-Flaire Kiosk!\nGenießt ab sofort Donnerstags bis Sonntags an warmen Tagen eine erfrischende Auswahl an leckerem Eis von Eis im Glück\, frechen Snacks\, kühlen Getränken und anderen tollen Dingen. Bei schlechtem Wetter bleibt der Kiosk geschlossen. Wir freuen uns auf euch!
URL:https://villa-flaire.org/event/kiosk/2024-06-20/
LOCATION:Villa-Flaire\, Salachweg 8\, Schwarzenbruck\, Bayern\, 90592\, Deutschland
END:VEVENT
BEGIN:VEVENT
DTSTART;TZID=Europe/Berlin:20240616T140000
DTEND;TZID=Europe/Berlin:20240616T180000
DTSTAMP:20260423T104108
CREATED:20240531T150854Z
LAST-MODIFIED:20240531T151005Z
UID:10000061-1718546400-1718560800@villa-flaire.org
SUMMARY:AtelYeah Drahtschmuck-Workshop #1
DESCRIPTION:
URL:https://villa-flaire.org/event/drahtschmuck-workshop-1/2024-06-16/
LOCATION:Villa-Flaire\, Salachweg 8\, Schwarzenbruck\, Bayern\, 90592\, Deutschland
ORGANIZER;CN="AtelYeah":MAILTO:kunst@villa-flaire.org
END:VEVENT
BEGIN:VEVENT
DTSTART;TZID=Europe/Berlin:20240613T150000
DTEND;TZID=Europe/Berlin:20240613T210000
DTSTAMP:20260423T104108
CREATED:20240624T122749Z
LAST-MODIFIED:20240830T142430Z
UID:10000065-1718290800-1718312400@villa-flaire.org
SUMMARY:Kiosk
DESCRIPTION:Herzlich willkommen am Villa-Flaire Kiosk!\nGenießt ab sofort Donnerstags bis Sonntags an warmen Tagen eine erfrischende Auswahl an leckerem Eis von Eis im Glück\, frechen Snacks\, kühlen Getränken und anderen tollen Dingen. Bei schlechtem Wetter bleibt der Kiosk geschlossen. Wir freuen uns auf euch!
URL:https://villa-flaire.org/event/kiosk/2024-06-13/
LOCATION:Villa-Flaire\, Salachweg 8\, Schwarzenbruck\, Bayern\, 90592\, Deutschland
END:VEVENT
BEGIN:VEVENT
DTSTART;TZID=Europe/Berlin:20240609T120000
DTEND;TZID=Europe/Berlin:20240609T210000
DTSTAMP:20260423T104108
CREATED:20240624T122749Z
LAST-MODIFIED:20240830T142430Z
UID:10000064-1717934400-1717966800@villa-flaire.org
SUMMARY:Kiosk
DESCRIPTION:Herzlich willkommen am Villa-Flaire Kiosk!\nGenießt ab sofort Donnerstags bis Sonntags an warmen Tagen eine erfrischende Auswahl an leckerem Eis von Eis im Glück\, frechen Snacks\, kühlen Getränken und anderen tollen Dingen. Bei schlechtem Wetter bleibt der Kiosk geschlossen. Wir freuen uns auf euch!
URL:https://villa-flaire.org/event/kiosk/2024-06-09/
LOCATION:Villa-Flaire\, Salachweg 8\, Schwarzenbruck\, Bayern\, 90592\, Deutschland
END:VEVENT
BEGIN:VEVENT
DTSTART;TZID=Europe/Berlin:20240608T160000
DTEND;TZID=Europe/Berlin:20240609T010000
DTSTAMP:20260423T104108
CREATED:20240624T122749Z
LAST-MODIFIED:20240830T142430Z
UID:10000091-1717862400-1717894800@villa-flaire.org
SUMMARY:Kiosk
DESCRIPTION:Herzlich willkommen am Villa-Flaire Kiosk!\nGenießt ab sofort Donnerstags bis Sonntags an warmen Tagen eine erfrischende Auswahl an leckerem Eis von Eis im Glück\, frechen Snacks\, kühlen Getränken und anderen tollen Dingen. Bei schlechtem Wetter bleibt der Kiosk geschlossen. Wir freuen uns auf euch!
URL:https://villa-flaire.org/event/kiosk/2024-06-08/
LOCATION:Villa-Flaire\, Salachweg 8\, Schwarzenbruck\, Bayern\, 90592\, Deutschland
END:VEVENT
BEGIN:VEVENT
DTSTART;TZID=Europe/Berlin:20240517T163000
DTEND;TZID=Europe/Berlin:20240517T190000
DTSTAMP:20260423T104109
CREATED:20240318T181010Z
LAST-MODIFIED:20251113T220305Z
UID:10000053-1715963400-1715972400@villa-flaire.org
SUMMARY:AtelYeah Töpferkurs #3
DESCRIPTION:
URL:https://villa-flaire.org/event/atelyeah-toepferkurs-3/2024-05-17/
LOCATION:Villa-Flaire\, Salachweg 8\, Schwarzenbruck\, Bayern\, 90592\, Deutschland
ORGANIZER;CN="AtelYeah":MAILTO:kunst@villa-flaire.org
END:VEVENT
BEGIN:VEVENT
DTSTART;TZID=Europe/Berlin:20240503T163000
DTEND;TZID=Europe/Berlin:20240503T190000
DTSTAMP:20260423T104109
CREATED:20240318T181010Z
LAST-MODIFIED:20251113T220305Z
UID:10000052-1714753800-1714762800@villa-flaire.org
SUMMARY:AtelYeah Töpferkurs #3
DESCRIPTION:
URL:https://villa-flaire.org/event/atelyeah-toepferkurs-3/2024-05-03/
LOCATION:Villa-Flaire\, Salachweg 8\, Schwarzenbruck\, Bayern\, 90592\, Deutschland
ORGANIZER;CN="AtelYeah":MAILTO:kunst@villa-flaire.org
END:VEVENT
BEGIN:VEVENT
DTSTART;TZID=Europe/Berlin:20240426T163000
DTEND;TZID=Europe/Berlin:20240426T190000
DTSTAMP:20260423T104109
CREATED:20240318T181010Z
LAST-MODIFIED:20251113T220305Z
UID:10000051-1714149000-1714158000@villa-flaire.org
SUMMARY:AtelYeah Töpferkurs #3
DESCRIPTION:
URL:https://villa-flaire.org/event/atelyeah-toepferkurs-3/2024-04-26/
LOCATION:Villa-Flaire\, Salachweg 8\, Schwarzenbruck\, Bayern\, 90592\, Deutschland
ORGANIZER;CN="AtelYeah":MAILTO:kunst@villa-flaire.org
END:VEVENT
BEGIN:VEVENT
DTSTART;TZID=Europe/Berlin:20240419T163000
DTEND;TZID=Europe/Berlin:20240419T190000
DTSTAMP:20260423T104109
CREATED:20240318T181010Z
LAST-MODIFIED:20251113T220305Z
UID:10000050-1713544200-1713553200@villa-flaire.org
SUMMARY:AtelYeah Töpferkurs #3
DESCRIPTION:
URL:https://villa-flaire.org/event/atelyeah-toepferkurs-3/2024-04-19/
LOCATION:Villa-Flaire\, Salachweg 8\, Schwarzenbruck\, Bayern\, 90592\, Deutschland
ORGANIZER;CN="AtelYeah":MAILTO:kunst@villa-flaire.org
END:VEVENT
BEGIN:VEVENT
DTSTART;TZID=Europe/Berlin:20240412T163000
DTEND;TZID=Europe/Berlin:20240412T190000
DTSTAMP:20260423T104109
CREATED:20240128T215352Z
LAST-MODIFIED:20251113T220256Z
UID:10000044-1712939400-1712948400@villa-flaire.org
SUMMARY:AtelYeah Töpferkurs #2
DESCRIPTION:
URL:https://villa-flaire.org/event/atelyeah-toepferkurs-2/2024-04-12/
LOCATION:Villa-Flaire\, Salachweg 8\, Schwarzenbruck\, Bayern\, 90592\, Deutschland
ORGANIZER;CN="AtelYeah":MAILTO:kunst@villa-flaire.org
END:VEVENT
BEGIN:VEVENT
DTSTART;TZID=Europe/Berlin:20240315T163000
DTEND;TZID=Europe/Berlin:20240315T190000
DTSTAMP:20260423T104109
CREATED:20240128T215352Z
LAST-MODIFIED:20251113T220256Z
UID:10000043-1710520200-1710529200@villa-flaire.org
SUMMARY:AtelYeah Töpferkurs #2
DESCRIPTION:
URL:https://villa-flaire.org/event/atelyeah-toepferkurs-2/2024-03-15/
LOCATION:Villa-Flaire\, Salachweg 8\, Schwarzenbruck\, Bayern\, 90592\, Deutschland
ORGANIZER;CN="AtelYeah":MAILTO:kunst@villa-flaire.org
END:VEVENT
BEGIN:VEVENT
DTSTART;TZID=Europe/Berlin:20240308T163000
DTEND;TZID=Europe/Berlin:20240308T190000
DTSTAMP:20260423T104109
CREATED:20240128T215352Z
LAST-MODIFIED:20251113T220256Z
UID:10000042-1709915400-1709924400@villa-flaire.org
SUMMARY:AtelYeah Töpferkurs #2
DESCRIPTION:
URL:https://villa-flaire.org/event/atelyeah-toepferkurs-2/2024-03-08/
LOCATION:Villa-Flaire\, Salachweg 8\, Schwarzenbruck\, Bayern\, 90592\, Deutschland
ORGANIZER;CN="AtelYeah":MAILTO:kunst@villa-flaire.org
END:VEVENT
BEGIN:VEVENT
DTSTART;TZID=Europe/Berlin:20240301T163000
DTEND;TZID=Europe/Berlin:20240301T190000
DTSTAMP:20260423T104109
CREATED:20240128T215352Z
LAST-MODIFIED:20251113T220256Z
UID:10000041-1709310600-1709319600@villa-flaire.org
SUMMARY:AtelYeah Töpferkurs #2
DESCRIPTION:
URL:https://villa-flaire.org/event/atelyeah-toepferkurs-2/2024-03-01/
LOCATION:Villa-Flaire\, Salachweg 8\, Schwarzenbruck\, Bayern\, 90592\, Deutschland
ORGANIZER;CN="AtelYeah":MAILTO:kunst@villa-flaire.org
END:VEVENT
BEGIN:VEVENT
DTSTART;TZID=Europe/Berlin:20240223T143000
DTEND;TZID=Europe/Berlin:20240223T170000
DTSTAMP:20260423T104109
CREATED:20240128T213645Z
LAST-MODIFIED:20240131T202713Z
UID:10000045-1708698600-1708707600@villa-flaire.org
SUMMARY:AtelYeah Töpferkurs #1
DESCRIPTION:
URL:https://villa-flaire.org/event/toepferkurs-1/2024-02-23/
LOCATION:Villa-Flaire\, Salachweg 8\, Schwarzenbruck\, Bayern\, 90592\, Deutschland
ORGANIZER;CN="Laissez-Faire e.V.":MAILTO:hallo@laissez-faire.org
END:VEVENT
BEGIN:VEVENT
DTSTART;TZID=Europe/Berlin:20240209T143000
DTEND;TZID=Europe/Berlin:20240209T170000
DTSTAMP:20260423T104109
CREATED:20240128T213645Z
LAST-MODIFIED:20240131T202713Z
UID:10000039-1707489000-1707498000@villa-flaire.org
SUMMARY:AtelYeah Töpferkurs #1
DESCRIPTION:
URL:https://villa-flaire.org/event/toepferkurs-1/2024-02-09/
LOCATION:Villa-Flaire\, Salachweg 8\, Schwarzenbruck\, Bayern\, 90592\, Deutschland
ORGANIZER;CN="Laissez-Faire e.V.":MAILTO:hallo@laissez-faire.org
END:VEVENT
BEGIN:VEVENT
DTSTART;TZID=Europe/Berlin:20240202T143000
DTEND;TZID=Europe/Berlin:20240202T170000
DTSTAMP:20260423T104109
CREATED:20240128T213645Z
LAST-MODIFIED:20240131T202713Z
UID:10000038-1706884200-1706893200@villa-flaire.org
SUMMARY:AtelYeah Töpferkurs #1
DESCRIPTION:
URL:https://villa-flaire.org/event/toepferkurs-1/2024-02-02/
LOCATION:Villa-Flaire\, Salachweg 8\, Schwarzenbruck\, Bayern\, 90592\, Deutschland
ORGANIZER;CN="Laissez-Faire e.V.":MAILTO:hallo@laissez-faire.org
END:VEVENT
BEGIN:VEVENT
DTSTART;TZID=Europe/Berlin:20240126T143000
DTEND;TZID=Europe/Berlin:20240126T170000
DTSTAMP:20260423T104109
CREATED:20240128T213645Z
LAST-MODIFIED:20240131T202713Z
UID:10000037-1706279400-1706288400@villa-flaire.org
SUMMARY:AtelYeah Töpferkurs #1
DESCRIPTION:
URL:https://villa-flaire.org/event/toepferkurs-1/2024-01-26/
LOCATION:Villa-Flaire\, Salachweg 8\, Schwarzenbruck\, Bayern\, 90592\, Deutschland
ORGANIZER;CN="Laissez-Faire e.V.":MAILTO:hallo@laissez-faire.org
END:VEVENT
BEGIN:VEVENT
DTSTART;TZID=Europe/Berlin:20231217T140000
DTEND;TZID=Europe/Berlin:20231217T200000
DTSTAMP:20260423T104109
CREATED:20231018T105050Z
LAST-MODIFIED:20251113T215600Z
UID:10000035-1702821600-1702843200@villa-flaire.org
SUMMARY:Wintermarkt 2023
DESCRIPTION:Der Verein Laissez-Faire e.V. lädt zu einem alternativen Wintermarkt auf dem Gelände der in Schwarzenbruck frisch gebackenen Kultur- & Begegnungsstätte Villa-Flaire ein. Omas und Opas Weihnachtsbäckereien\, selbstgemachter Glühwein und Liköre\, Kunststände (Töpferware\, Kerzen\, Makramee\, Schmuck u.a.)\, interaktive Aktions- und Bastelstände der Villa-Flaire Projekte Werkstatt und Atelier\, Kinderspaß und noch Vieles mehr – alles auf unserem Wintermarkt ist selbstgemacht und selbstgestaltet! Lassen Sie sich verzaubern – sicher findet sich auf unserem alternativen Markt der Überraschungen noch so manches Weihnachtsgeschenk.
URL:https://villa-flaire.org/event/wintermarkt-2023/2023-12-17/
LOCATION:Villa-Flaire\, Salachweg 8\, Schwarzenbruck\, Bayern\, 90592\, Deutschland
ATTACH;FMTTYPE=image/jpeg:https://villa-flaire.org/wp-content/uploads/2023/10/Villa-Flaire_Wintermarkt_2023_Event_Header.jpg
ORGANIZER;CN="Laissez-Faire e.V.":MAILTO:hallo@laissez-faire.org
END:VEVENT
BEGIN:VEVENT
DTSTART;TZID=Europe/Berlin:20231216T140000
DTEND;TZID=Europe/Berlin:20231216T220000
DTSTAMP:20260423T104109
CREATED:20231018T105050Z
LAST-MODIFIED:20251113T215600Z
UID:10000034-1702735200-1702764000@villa-flaire.org
SUMMARY:Wintermarkt 2023
DESCRIPTION:Der Verein Laissez-Faire e.V. lädt zu einem alternativen Wintermarkt auf dem Gelände der in Schwarzenbruck frisch gebackenen Kultur- & Begegnungsstätte Villa-Flaire ein. Omas und Opas Weihnachtsbäckereien\, selbstgemachter Glühwein und Liköre\, Kunststände (Töpferware\, Kerzen\, Makramee\, Schmuck u.a.)\, interaktive Aktions- und Bastelstände der Villa-Flaire Projekte Werkstatt und Atelier\, Kinderspaß und noch Vieles mehr – alles auf unserem Wintermarkt ist selbstgemacht und selbstgestaltet! Lassen Sie sich verzaubern – sicher findet sich auf unserem alternativen Markt der Überraschungen noch so manches Weihnachtsgeschenk.
URL:https://villa-flaire.org/event/wintermarkt-2023/2023-12-16/
LOCATION:Villa-Flaire\, Salachweg 8\, Schwarzenbruck\, Bayern\, 90592\, Deutschland
ATTACH;FMTTYPE=image/jpeg:https://villa-flaire.org/wp-content/uploads/2023/10/Villa-Flaire_Wintermarkt_2023_Event_Header.jpg
ORGANIZER;CN="Laissez-Faire e.V.":MAILTO:hallo@laissez-faire.org
END:VEVENT
BEGIN:VEVENT
DTSTART;TZID=Europe/Berlin:20231210T140000
DTEND;TZID=Europe/Berlin:20231210T200000
DTSTAMP:20260423T104109
CREATED:20231018T105050Z
LAST-MODIFIED:20251113T215600Z
UID:10000033-1702216800-1702238400@villa-flaire.org
SUMMARY:Wintermarkt 2023
DESCRIPTION:Der Verein Laissez-Faire e.V. lädt zu einem alternativen Wintermarkt auf dem Gelände der in Schwarzenbruck frisch gebackenen Kultur- & Begegnungsstätte Villa-Flaire ein. Omas und Opas Weihnachtsbäckereien\, selbstgemachter Glühwein und Liköre\, Kunststände (Töpferware\, Kerzen\, Makramee\, Schmuck u.a.)\, interaktive Aktions- und Bastelstände der Villa-Flaire Projekte Werkstatt und Atelier\, Kinderspaß und noch Vieles mehr – alles auf unserem Wintermarkt ist selbstgemacht und selbstgestaltet! Lassen Sie sich verzaubern – sicher findet sich auf unserem alternativen Markt der Überraschungen noch so manches Weihnachtsgeschenk.
URL:https://villa-flaire.org/event/wintermarkt-2023/2023-12-10/
LOCATION:Villa-Flaire\, Salachweg 8\, Schwarzenbruck\, Bayern\, 90592\, Deutschland
ATTACH;FMTTYPE=image/jpeg:https://villa-flaire.org/wp-content/uploads/2023/10/Villa-Flaire_Wintermarkt_2023_Event_Header.jpg
ORGANIZER;CN="Laissez-Faire e.V.":MAILTO:hallo@laissez-faire.org
END:VEVENT
BEGIN:VEVENT
DTSTART;TZID=Europe/Berlin:20231209T140000
DTEND;TZID=Europe/Berlin:20231209T220000
DTSTAMP:20260423T104109
CREATED:20231018T105050Z
LAST-MODIFIED:20251113T215600Z
UID:10000032-1702130400-1702159200@villa-flaire.org
SUMMARY:Wintermarkt 2023
DESCRIPTION:Der Verein Laissez-Faire e.V. lädt zu einem alternativen Wintermarkt auf dem Gelände der in Schwarzenbruck frisch gebackenen Kultur- & Begegnungsstätte Villa-Flaire ein. Omas und Opas Weihnachtsbäckereien\, selbstgemachter Glühwein und Liköre\, Kunststände (Töpferware\, Kerzen\, Makramee\, Schmuck u.a.)\, interaktive Aktions- und Bastelstände der Villa-Flaire Projekte Werkstatt und Atelier\, Kinderspaß und noch Vieles mehr – alles auf unserem Wintermarkt ist selbstgemacht und selbstgestaltet! Lassen Sie sich verzaubern – sicher findet sich auf unserem alternativen Markt der Überraschungen noch so manches Weihnachtsgeschenk.
URL:https://villa-flaire.org/event/wintermarkt-2023/2023-12-09/
LOCATION:Villa-Flaire\, Salachweg 8\, Schwarzenbruck\, Bayern\, 90592\, Deutschland
ATTACH;FMTTYPE=image/jpeg:https://villa-flaire.org/wp-content/uploads/2023/10/Villa-Flaire_Wintermarkt_2023_Event_Header.jpg
ORGANIZER;CN="Laissez-Faire e.V.":MAILTO:hallo@laissez-faire.org
END:VEVENT
BEGIN:VEVENT
DTSTART;TZID=Europe/Berlin:20231111T160000
DTEND;TZID=Europe/Berlin:20231111T220000
DTSTAMP:20260423T104109
CREATED:20231102T143936Z
LAST-MODIFIED:20231102T144019Z
UID:10000036-1699718400-1699740000@villa-flaire.org
SUMMARY:Eröffnung AtelYeah
DESCRIPTION:Der Verein Laissez-Faire e.V. lädt am 11.11.2023 herzlich zur Eröffnung des AtelYeah in der Kultur- & Begegnungsstätte Villa-Flaire ein! Das Programm umfasst kreative Workshops\, einen Achtsamkeitsspaziergang\, Entspannung am Lagerfeuer und Verpflegung auf Spendenbasis. Wer will\, kann sich natürlich auch das Gelände ansehen und bestaunen\, was sich Neues bei uns getan hat. \nWas ist das AtelYeah?\nDas AtelYeah ist eines der vielen geplanten Projekte der Villa-Flaire\, ausgerichtet vom gemeinnützigen Verein Laissez-Faire. Es will Kunst\, Handwerk und Kreativität gemeinschaftlich gestalten und für möglichst alle zugänglich machen. Ein Teil des Projektes ist das Offene Atelier. Man kann\, je nach Angebot des Tages\, unverbindlich vorbeikommen und ein Kunsthandwerk angeleitet ausprobieren. Dabei versuchen wir möglichst viele unterschiedliche Möglichkeiten bereitzustellen\, bislang gehören Töpfern\, Malen\, Zeichnen\, Basteln\, Schmuckmachen und Siebdrucken dazu. Außerdem werden wir in Zukunft spezifische Workshops und regelmäßige Kurse anbieten\, wie beispielsweise den Kreativen Kindernachmittag. \nWas ist die Villa-Flaire?\nDie Villa-Flaire ist eine neugegründete Kultur- & Begegnungsstätte in Pfeifferhütte mit einem ganzheitlichen Konzept und dem Ziel\, den Menschen einen offenen Ort der Begegnung und der friedlichen Kulturen zu schenken. Dabei gibt es ein vielseitiges Angebot von Projekten und Veranstaltungen aus den verschiedensten Bereichen der Kunst und Kultur\, des Sozialen\, des Handwerks\, der Geschichte\, der Gesundheit und der Ernährung. Ein großer Fokus liegt hierbei auf einer pädagogischen\, niederschwelligen Mitmachkultur\, welche zur individuellen Entfaltung einlädt.
URL:https://villa-flaire.org/event/eroeffnung-atelyeah/
LOCATION:Villa-Flaire\, Salachweg 8\, Schwarzenbruck\, Bayern\, 90592\, Deutschland
ATTACH;FMTTYPE=image/png:https://villa-flaire.org/wp-content/uploads/2023/11/Villa-Flaire-AtelYeah-Eroeffnung-Cover.png
ORGANIZER;CN="Laissez-Faire e.V.":MAILTO:hallo@laissez-faire.org
END:VEVENT
BEGIN:VEVENT
DTSTART;TZID=Europe/Berlin:20231022T120000
DTEND;TZID=Europe/Berlin:20231022T160000
DTSTAMP:20260423T104109
CREATED:20231018T110323Z
LAST-MODIFIED:20231018T133219Z
UID:10000024-1697976000-1697990400@villa-flaire.org
SUMMARY:Genozid an Rom*nja Ausstellung
DESCRIPTION:Während des zweiten Weltkrieges haben die deutschen Besatzer in der Ukraine weit über 10.000 Rom*nja ermordet. Doch im Gedächtnis von Deutschen wie Ukrainer*innen ist dieser Völkermord kaum verankert. Mangels schriftlicher Überlieferungen droht die Erinnerung daran\, jedenfalls aus der Opferperspektive\, verloren zu gehen. Im Jahr 2018 hat ein internationales Projekt\, bestehend aus deutschen und ukrainischen Teilnehmer*innen\, dutzende von Zeitzeug*innen in der Ukraine getroffen. Die Überlebenden sprachen vom Leid\, das ihnen widerfuhr\, aber auch vom Widerstand\, den sie oder ihre Angehörigen leisteten. Sie berichteten von Kollaboration\, aber auch von Solidarität durch ihre Nachbar*innen. Die Ausstellung gibt die zentralen Aussagen der Interviews mit den Zeitzeug*innen wieder\, ergänzt durch Informationen zum Verlauf des Genozids\, zur (verzögerten) Aufarbeitung\, aber auch zur heutigen Situation der Rom*nja in der Ukraine und in Deutschland.
URL:https://villa-flaire.org/event/genozid-an-romnja-ausstellung/2023-10-22/
LOCATION:Villa-Flaire\, Salachweg 8\, Schwarzenbruck\, Bayern\, 90592\, Deutschland
ORGANIZER;CN="Laissez-Faire e.V.":MAILTO:hallo@laissez-faire.org
END:VEVENT
BEGIN:VEVENT
DTSTART;TZID=Europe/Berlin:20231021T120000
DTEND;TZID=Europe/Berlin:20231021T160000
DTSTAMP:20260423T104109
CREATED:20231018T110323Z
LAST-MODIFIED:20231018T133219Z
UID:10000023-1697889600-1697904000@villa-flaire.org
SUMMARY:Genozid an Rom*nja Ausstellung
DESCRIPTION:Während des zweiten Weltkrieges haben die deutschen Besatzer in der Ukraine weit über 10.000 Rom*nja ermordet. Doch im Gedächtnis von Deutschen wie Ukrainer*innen ist dieser Völkermord kaum verankert. Mangels schriftlicher Überlieferungen droht die Erinnerung daran\, jedenfalls aus der Opferperspektive\, verloren zu gehen. Im Jahr 2018 hat ein internationales Projekt\, bestehend aus deutschen und ukrainischen Teilnehmer*innen\, dutzende von Zeitzeug*innen in der Ukraine getroffen. Die Überlebenden sprachen vom Leid\, das ihnen widerfuhr\, aber auch vom Widerstand\, den sie oder ihre Angehörigen leisteten. Sie berichteten von Kollaboration\, aber auch von Solidarität durch ihre Nachbar*innen. Die Ausstellung gibt die zentralen Aussagen der Interviews mit den Zeitzeug*innen wieder\, ergänzt durch Informationen zum Verlauf des Genozids\, zur (verzögerten) Aufarbeitung\, aber auch zur heutigen Situation der Rom*nja in der Ukraine und in Deutschland.
URL:https://villa-flaire.org/event/genozid-an-romnja-ausstellung/2023-10-21/
LOCATION:Villa-Flaire\, Salachweg 8\, Schwarzenbruck\, Bayern\, 90592\, Deutschland
ORGANIZER;CN="Laissez-Faire e.V.":MAILTO:hallo@laissez-faire.org
END:VEVENT
BEGIN:VEVENT
DTSTART;TZID=Europe/Berlin:20230722T120000
DTEND;TZID=Europe/Berlin:20230722T200000
DTSTAMP:20260423T104109
CREATED:20230607T184032Z
LAST-MODIFIED:20230607T184032Z
UID:10000009-1690027200-1690056000@villa-flaire.org
SUMMARY:500 Trommeln Mitmachkonzert
DESCRIPTION:
URL:https://villa-flaire.org/event/500-trommeln-mitmachkonzert/
LOCATION:Villa-Flaire\, Salachweg 8\, Schwarzenbruck\, Bayern\, 90592\, Deutschland
END:VEVENT
BEGIN:VEVENT
DTSTART;TZID=Europe/Berlin:20230518T140000
DTEND;TZID=Europe/Berlin:20230518T200000
DTSTAMP:20260423T104109
CREATED:20230520T130313Z
LAST-MODIFIED:20230520T130313Z
UID:10000008-1684418400-1684440000@villa-flaire.org
SUMMARY:Jam la Flaire
DESCRIPTION:
URL:https://villa-flaire.org/event/jam-la-flaire/
LOCATION:Villa-Flaire\, Salachweg 8\, Schwarzenbruck\, Bayern\, 90592\, Deutschland
ORGANIZER;CN="Laissez-Faire e.V.":MAILTO:hallo@laissez-faire.org
END:VEVENT
BEGIN:VEVENT
DTSTART;TZID=Europe/Berlin:20221218T160000
DTEND;TZID=Europe/Berlin:20221218T200000
DTSTAMP:20260423T104109
CREATED:20221202T214548Z
LAST-MODIFIED:20251113T215613Z
UID:10000031-1671379200-1671393600@villa-flaire.org
SUMMARY:Wintermarkt 2022
DESCRIPTION:Der Verein Laissez-Faire e.V. lädt zu einem alternativen Wintermarkt auf dem Gelände der in Schwarzenbruck frisch gebackenen Kultur- & Begegnungsstätte Villa-Flaire ein. Omas und Opas Weihnachtsbäckereien\, selbstgemachter Glühwein und Liköre\, Kunststände (Töpferware\, Kerzen\, Makramee\, Schmuck u.a.)\, interaktive Aktions- und Bastelstände der Villa-Flaire Projekte Werkstatt und Atelier\, Kinderspaß und noch Vieles mehr – alles auf unserem Wintermarkt ist selbstgemacht und selbstgestaltet! Lassen Sie sich verzaubern – sicher findet sich auf unserem alternativen Markt der Überraschungen noch so manches Weihnachtsgeschenk.
URL:https://villa-flaire.org/event/wintermarkt-2022/2022-12-18/
LOCATION:Villa-Flaire\, Salachweg 8\, Schwarzenbruck\, Bayern\, 90592\, Deutschland
ORGANIZER;CN="Laissez-Faire e.V.":MAILTO:hallo@laissez-faire.org
END:VEVENT
BEGIN:VEVENT
DTSTART;TZID=Europe/Berlin:20221217T160000
DTEND;TZID=Europe/Berlin:20221217T220000
DTSTAMP:20260423T104109
CREATED:20221202T214548Z
LAST-MODIFIED:20251113T215613Z
UID:10000006-1671292800-1671314400@villa-flaire.org
SUMMARY:Wintermarkt 2022
DESCRIPTION:Der Verein Laissez-Faire e.V. lädt zu einem alternativen Wintermarkt auf dem Gelände der in Schwarzenbruck frisch gebackenen Kultur- & Begegnungsstätte Villa-Flaire ein. Omas und Opas Weihnachtsbäckereien\, selbstgemachter Glühwein und Liköre\, Kunststände (Töpferware\, Kerzen\, Makramee\, Schmuck u.a.)\, interaktive Aktions- und Bastelstände der Villa-Flaire Projekte Werkstatt und Atelier\, Kinderspaß und noch Vieles mehr – alles auf unserem Wintermarkt ist selbstgemacht und selbstgestaltet! Lassen Sie sich verzaubern – sicher findet sich auf unserem alternativen Markt der Überraschungen noch so manches Weihnachtsgeschenk.
URL:https://villa-flaire.org/event/wintermarkt-2022/2022-12-17/
LOCATION:Villa-Flaire\, Salachweg 8\, Schwarzenbruck\, Bayern\, 90592\, Deutschland
ORGANIZER;CN="Laissez-Faire e.V.":MAILTO:hallo@laissez-faire.org
END:VEVENT
END:VCALENDAR